Package: iChip Version: 1.52.0 Command: /home/biocbuild/bbs-3.16-bioc/R/bin/R CMD INSTALL iChip StartedAt: 2023-04-10 15:07:28 -0400 (Mon, 10 Apr 2023) EndedAt: 2023-04-10 15:07:38 -0400 (Mon, 10 Apr 2023) EllapsedTime: 10.2 seconds RetCode: 0 Status: OK