Package: iChip Version: 1.52.0 Command: /home/biocbuild/bbs-3.16-bioc/R/bin/R CMD check --install=check:iChip.install-out.txt --library=/home/biocbuild/bbs-3.16-bioc/R/site-library --timings iChip_1.52.0.tar.gz StartedAt: 2023-04-10 21:20:59 -0400 (Mon, 10 Apr 2023) EndedAt: 2023-04-10 21:22:13 -0400 (Mon, 10 Apr 2023) EllapsedTime: 74.1 seconds RetCode: 0 Status: OK CheckDir: iChip.Rcheck Warnings: 0