Package: iChip Version: 1.52.0 Command: /Library/Frameworks/R.framework/Resources/bin/R CMD INSTALL iChip StartedAt: 2023-04-10 15:04:34 -0400 (Mon, 10 Apr 2023) EndedAt: 2023-04-10 15:04:48 -0400 (Mon, 10 Apr 2023) EllapsedTime: 13.0 seconds RetCode: 0 Status: OK