Package: iChip Version: 1.52.0 Command: rm -rf iChip.buildbin-libdir && mkdir iChip.buildbin-libdir && /Users/biocbuild/BBS/utils/build-universal.sh iChip_1.52.0.tar.gz /Library/Frameworks/R.framework/Resources/bin/R iChip.buildbin-libdir StartedAt: 2023-04-10 23:47:54 -0400 (Mon, 10 Apr 2023) EndedAt: 2023-04-10 23:48:01 -0400 (Mon, 10 Apr 2023) EllapsedTime: 6.9 seconds RetCode: 0 Status: OK PackageFile: iChip_1.52.0.tgz PackageFileSize: 1.933 MiB