Package: iChip Version: 1.51.0 Command: /Library/Frameworks/R.framework/Resources/bin/R CMD build --keep-empty-dirs --no-resave-data iChip StartedAt: 2022-07-06 22:46:30 -0400 (Wed, 06 Jul 2022) EndedAt: 2022-07-06 22:47:20 -0400 (Wed, 06 Jul 2022) EllapsedTime: 50.4 seconds RetCode: 0 Status: OK PackageFile: iChip_1.51.0.tar.gz PackageFileSize: 1.706 MiB