Package: iCOBRA Version: 1.26.0 Command: rm -rf iCOBRA.buildbin-libdir && mkdir iCOBRA.buildbin-libdir && F:\biocbuild\bbs-3.16-bioc\R\bin\R.exe CMD INSTALL --build --library=iCOBRA.buildbin-libdir iCOBRA_1.26.0.tar.gz StartedAt: 2023-04-11 08:09:27 -0400 (Tue, 11 Apr 2023) EndedAt: 2023-04-11 08:09:54 -0400 (Tue, 11 Apr 2023) EllapsedTime: 27.3 seconds RetCode: 0 Status: OK PackageFile: iCOBRA_1.26.0.zip PackageFileSize: 2.422 MiB