Package: hypergraph Version: 1.70.0 Command: chmod a+r hypergraph -R && F:\biocbuild\bbs-3.16-bioc\R\bin\R.exe CMD build --keep-empty-dirs --no-resave-data hypergraph StartedAt: 2023-04-10 19:16:55 -0400 (Mon, 10 Apr 2023) EndedAt: 2023-04-10 19:16:57 -0400 (Mon, 10 Apr 2023) EllapsedTime: 1.4 seconds RetCode: 0 Status: OK PackageFile: hypergraph_1.70.0.tar.gz PackageFileSize: 8.26 KiB