Package: hypergraph Version: 1.70.0 Command: /home/biocbuild/bbs-3.16-bioc/R/bin/R CMD build --keep-empty-dirs --no-resave-data hypergraph StartedAt: 2023-04-10 17:00:57 -0400 (Mon, 10 Apr 2023) EndedAt: 2023-04-10 17:00:59 -0400 (Mon, 10 Apr 2023) EllapsedTime: 1.6 seconds RetCode: 0 Status: OK PackageFile: hypergraph_1.70.0.tar.gz PackageFileSize: 8.257 KiB