Package: hypeR Version: 1.14.0 Command: rm -rf hypeR.buildbin-libdir && mkdir hypeR.buildbin-libdir && F:\biocbuild\bbs-3.16-bioc\R\bin\R.exe CMD INSTALL --build --library=hypeR.buildbin-libdir hypeR_1.14.0.tar.gz StartedAt: 2023-04-11 08:09:05 -0400 (Tue, 11 Apr 2023) EndedAt: 2023-04-11 08:09:20 -0400 (Tue, 11 Apr 2023) EllapsedTime: 14.8 seconds RetCode: 0 Status: OK PackageFile: hypeR_1.14.0.zip PackageFileSize: 593.5 KiB