Package: hypeR Version: 1.14.0 Command: /Library/Frameworks/R.framework/Resources/bin/R CMD build --keep-empty-dirs --no-resave-data hypeR StartedAt: 2023-04-10 16:51:04 -0400 (Mon, 10 Apr 2023) EndedAt: 2023-04-10 16:51:19 -0400 (Mon, 10 Apr 2023) EllapsedTime: 14.7 seconds RetCode: 0 Status: OK PackageFile: hypeR_1.14.0.tar.gz PackageFileSize: 315.1 KiB