Package: hypeR Version: 1.13.0 Command: /Library/Frameworks/R.framework/Resources/bin/R CMD INSTALL hypeR StartedAt: 2022-07-10 17:13:02 -0400 (Sun, 10 Jul 2022) EndedAt: 2022-07-10 17:13:21 -0400 (Sun, 10 Jul 2022) EllapsedTime: 18.8 seconds RetCode: 0 Status: OK