Package: hypeR Version: 1.13.0 Command: rm -rf hypeR.buildbin-libdir && mkdir hypeR.buildbin-libdir && /Users/biocbuild/BBS/utils/build-universal.sh hypeR_1.13.0.tar.gz /Library/Frameworks/R.framework/Resources/bin/R hypeR.buildbin-libdir StartedAt: 2022-07-07 08:11:50 -0400 (Thu, 07 Jul 2022) EndedAt: 2022-07-07 08:12:11 -0400 (Thu, 07 Jul 2022) EllapsedTime: 20.5 seconds RetCode: 0 Status: OK PackageFile: hypeR_1.13.0.tgz PackageFileSize: 588.4 KiB