Package: hopach Version: 2.57.0 Command: /Library/Frameworks/R.framework/Resources/bin/R CMD build --keep-empty-dirs --no-resave-data hopach StartedAt: 2022-07-06 22:36:51 -0400 (Wed, 06 Jul 2022) EndedAt: 2022-07-06 22:37:21 -0400 (Wed, 06 Jul 2022) EllapsedTime: 30.4 seconds RetCode: 0 Status: OK PackageFile: hopach_2.57.0.tar.gz PackageFileSize: 1.292 MiB