Package: hiReadsProcessor Version: 1.34.0 Command: /Library/Frameworks/R.framework/Resources/bin/R CMD check --install=check:hiReadsProcessor.install-out.txt --library=/Library/Frameworks/R.framework/Resources/library --no-vignettes --timings hiReadsProcessor_1.34.0.tar.gz StartedAt: 2023-04-10 20:40:29 -0400 (Mon, 10 Apr 2023) EndedAt: 2023-04-10 20:44:21 -0400 (Mon, 10 Apr 2023) EllapsedTime: 232.7 seconds RetCode: 0 Status: OK CheckDir: hiReadsProcessor.Rcheck Warnings: 0