Package: hca Version: 1.6.0 Command: F:\biocbuild\bbs-3.16-bioc\R\bin\R.exe CMD check --no-multiarch --install=check:hca.install-out.txt --library=F:\biocbuild\bbs-3.16-bioc\R\library --no-vignettes --timings hca_1.6.0.tar.gz StartedAt: 2023-04-11 02:16:02 -0400 (Tue, 11 Apr 2023) EndedAt: 2023-04-11 02:18:27 -0400 (Tue, 11 Apr 2023) EllapsedTime: 145.3 seconds RetCode: 0 Status: OK CheckDir: hca.Rcheck Warnings: 0