Package: hca Version: 1.6.0 Command: rm -rf hca.buildbin-libdir && mkdir hca.buildbin-libdir && /Users/biocbuild/BBS/utils/build-universal.sh hca_1.6.0.tar.gz /Library/Frameworks/R.framework/Resources/bin/R hca.buildbin-libdir StartedAt: 2023-04-10 23:47:02 -0400 (Mon, 10 Apr 2023) EndedAt: 2023-04-10 23:47:11 -0400 (Mon, 10 Apr 2023) EllapsedTime: 9.0 seconds RetCode: 0 Status: OK PackageFile: hca_1.6.0.tgz PackageFileSize: 579.7 KiB