Package: hca Version: 1.5.1 Command: rm -rf hca.buildbin-libdir && mkdir hca.buildbin-libdir && /Users/biocbuild/BBS/utils/build-universal.sh hca_1.5.1.tar.gz /Library/Frameworks/R.framework/Resources/bin/R hca.buildbin-libdir StartedAt: 2022-07-07 08:09:36 -0400 (Thu, 07 Jul 2022) EndedAt: 2022-07-07 08:09:53 -0400 (Thu, 07 Jul 2022) EllapsedTime: 16.2 seconds RetCode: 0 Status: OK PackageFile: hca_1.5.1.tgz PackageFileSize: 785.4 KiB