Package: graph Version: 1.76.0 Command: rm -rf graph.buildbin-libdir && mkdir graph.buildbin-libdir && F:\biocbuild\bbs-3.16-bioc\R\bin\R.exe CMD INSTALL --build --library=graph.buildbin-libdir graph_1.76.0.tar.gz StartedAt: 2023-04-11 08:06:21 -0400 (Tue, 11 Apr 2023) EndedAt: 2023-04-11 08:07:06 -0400 (Tue, 11 Apr 2023) EllapsedTime: 45.0 seconds RetCode: 0 Status: OK PackageFile: graph_1.76.0.zip PackageFileSize: 1.472 MiB