Package: graper Version: 1.14.2 Command: /Library/Frameworks/R.framework/Resources/bin/R CMD check --install=check:graper.install-out.txt --library=/Library/Frameworks/R.framework/Resources/library --no-vignettes --timings graper_1.14.2.tar.gz StartedAt: 2023-04-10 20:31:56 -0400 (Mon, 10 Apr 2023) EndedAt: 2023-04-10 20:32:56 -0400 (Mon, 10 Apr 2023) EllapsedTime: 60.2 seconds RetCode: 0 Status: OK CheckDir: graper.Rcheck Warnings: 0