Package: graper Version: 1.14.2 Command: /Library/Frameworks/R.framework/Resources/bin/R CMD build --keep-empty-dirs --no-resave-data graper StartedAt: 2023-04-10 16:44:58 -0400 (Mon, 10 Apr 2023) EndedAt: 2023-04-10 16:45:55 -0400 (Mon, 10 Apr 2023) EllapsedTime: 57.4 seconds RetCode: 0 Status: OK PackageFile: graper_1.14.2.tar.gz PackageFileSize: 853.8 KiB