Package: globaltest Version: 5.52.1 Command: rm -rf globaltest.buildbin-libdir && mkdir globaltest.buildbin-libdir && /Users/biocbuild/BBS/utils/build-universal.sh globaltest_5.52.1.tar.gz /Library/Frameworks/R.framework/Resources/bin/R globaltest.buildbin-libdir StartedAt: 2023-04-10 23:46:03 -0400 (Mon, 10 Apr 2023) EndedAt: 2023-04-10 23:46:34 -0400 (Mon, 10 Apr 2023) EllapsedTime: 31.7 seconds RetCode: 0 Status: OK PackageFile: globaltest_5.52.1.tgz PackageFileSize: 1.123 MiB