Package: ggtree Version: 3.6.2 Command: rm -rf ggtree.buildbin-libdir && mkdir ggtree.buildbin-libdir && F:\biocbuild\bbs-3.16-bioc\R\bin\R.exe CMD INSTALL --build --library=ggtree.buildbin-libdir ggtree_3.6.2.tar.gz StartedAt: 2023-04-11 08:04:56 -0400 (Tue, 11 Apr 2023) EndedAt: 2023-04-11 08:05:44 -0400 (Tue, 11 Apr 2023) EllapsedTime: 47.5 seconds RetCode: 0 Status: OK PackageFile: ggtree_3.6.2.zip PackageFileSize: 892.1 KiB