Package: ggtree Version: 3.6.2 Command: /Library/Frameworks/R.framework/Resources/bin/R CMD check --install=check:ggtree.install-out.txt --library=/Library/Frameworks/R.framework/Resources/library --no-vignettes --timings ggtree_3.6.2.tar.gz StartedAt: 2023-04-10 20:27:57 -0400 (Mon, 10 Apr 2023) EndedAt: 2023-04-10 20:29:14 -0400 (Mon, 10 Apr 2023) EllapsedTime: 77.0 seconds RetCode: 0 Status: OK CheckDir: ggtree.Rcheck Warnings: 0