Package: gespeR Version: 1.30.0 Command: /Library/Frameworks/R.framework/Resources/bin/R CMD check --install=check:gespeR.install-out.txt --library=/Library/Frameworks/R.framework/Resources/library --no-vignettes --timings gespeR_1.30.0.tar.gz StartedAt: 2023-04-10 20:26:34 -0400 (Mon, 10 Apr 2023) EndedAt: 2023-04-10 20:30:34 -0400 (Mon, 10 Apr 2023) EllapsedTime: 239.4 seconds RetCode: 0 Status: WARNINGS CheckDir: gespeR.Rcheck Warnings: 1