Package: geneplast Version: 1.24.1 Command: /Library/Frameworks/R.framework/Resources/bin/R CMD check --install=check:geneplast.install-out.txt --library=/Library/Frameworks/R.framework/Resources/library --no-vignettes --timings geneplast_1.24.1.tar.gz StartedAt: 2023-04-10 20:21:20 -0400 (Mon, 10 Apr 2023) EndedAt: 2023-04-10 20:22:09 -0400 (Mon, 10 Apr 2023) EllapsedTime: 48.8 seconds RetCode: 0 Status: OK CheckDir: geneplast.Rcheck Warnings: 0