Package: geneplast Version: 1.24.1 Command: /Library/Frameworks/R.framework/Resources/bin/R CMD build --keep-empty-dirs --no-resave-data geneplast StartedAt: 2023-04-10 16:38:40 -0400 (Mon, 10 Apr 2023) EndedAt: 2023-04-10 16:39:12 -0400 (Mon, 10 Apr 2023) EllapsedTime: 31.8 seconds RetCode: 0 Status: OK PackageFile: geneplast_1.24.1.tar.gz PackageFileSize: 6.733 MiB