Package: geneplast Version: 1.23.0 Command: /Library/Frameworks/R.framework/Resources/bin/R CMD build --keep-empty-dirs --no-resave-data geneplast StartedAt: 2022-07-06 21:38:00 -0400 (Wed, 06 Jul 2022) EndedAt: 2022-07-06 21:38:42 -0400 (Wed, 06 Jul 2022) EllapsedTime: 41.8 seconds RetCode: 0 Status: OK PackageFile: geneplast_1.23.0.tar.gz PackageFileSize: 6.507 MiB