Package: geneXtendeR Version: 1.24.0 Command: /home/biocbuild/bbs-3.16-bioc/R/bin/R CMD INSTALL geneXtendeR StartedAt: 2023-04-10 15:45:08 -0400 (Mon, 10 Apr 2023) EndedAt: 2023-04-10 15:46:14 -0400 (Mon, 10 Apr 2023) EllapsedTime: 65.5 seconds RetCode: 0 Status: OK