Package: geneRecommender Version: 1.69.0 Command: /Library/Frameworks/R.framework/Resources/bin/R CMD build --keep-empty-dirs --no-resave-data geneRecommender StartedAt: 2022-07-06 21:38:37 -0400 (Wed, 06 Jul 2022) EndedAt: 2022-07-06 21:38:46 -0400 (Wed, 06 Jul 2022) EllapsedTime: 8.7 seconds RetCode: 0 Status: OK PackageFile: geneRecommender_1.69.0.tar.gz PackageFileSize: 238.7 KiB