Package: gaia Version: 2.41.0 Command: /Library/Frameworks/R.framework/Resources/bin/R CMD build --keep-empty-dirs --no-resave-data gaia StartedAt: 2022-07-06 21:19:25 -0400 (Wed, 06 Jul 2022) EndedAt: 2022-07-06 21:19:32 -0400 (Wed, 06 Jul 2022) EllapsedTime: 6.7 seconds RetCode: 1 Status: ERROR PackageFile: None PackageFileSize: NA