Package: gaga Version: 2.43.0 Command: /Library/Frameworks/R.framework/Resources/bin/R CMD build --keep-empty-dirs --no-resave-data gaga StartedAt: 2022-07-06 21:16:50 -0400 (Wed, 06 Jul 2022) EndedAt: 2022-07-06 21:17:17 -0400 (Wed, 06 Jul 2022) EllapsedTime: 27.2 seconds RetCode: 0 Status: OK PackageFile: gaga_2.43.0.tar.gz PackageFileSize: 570.1 KiB