Package: flowcatchR Version: 1.32.0 Command: chmod a+r flowcatchR -R && F:\biocbuild\bbs-3.16-bioc\R\bin\R.exe CMD build --keep-empty-dirs --no-resave-data flowcatchR StartedAt: 2023-04-10 18:44:25 -0400 (Mon, 10 Apr 2023) EndedAt: 2023-04-10 18:45:42 -0400 (Mon, 10 Apr 2023) EllapsedTime: 76.9 seconds RetCode: 0 Status: OK PackageFile: flowcatchR_1.32.0.tar.gz PackageFileSize: 6.775 MiB