Package: flowTrans Version: 1.50.0 Command: chmod a+r flowTrans -R && F:\biocbuild\bbs-3.16-bioc\R\bin\R.exe CMD build --keep-empty-dirs --no-resave-data flowTrans StartedAt: 2023-04-10 18:47:46 -0400 (Mon, 10 Apr 2023) EndedAt: 2023-04-10 18:48:12 -0400 (Mon, 10 Apr 2023) EllapsedTime: 25.9 seconds RetCode: 0 Status: OK PackageFile: flowTrans_1.50.0.tar.gz PackageFileSize: 372.4 KiB