Package: flowCore Version: 2.9.1 Command: /Library/Frameworks/R.framework/Resources/bin/R CMD build --keep-empty-dirs --no-resave-data flowCore StartedAt: 2022-07-06 21:00:27 -0400 (Wed, 06 Jul 2022) EndedAt: 2022-07-06 21:02:40 -0400 (Wed, 06 Jul 2022) EllapsedTime: 133.5 seconds RetCode: 0 Status: OK PackageFile: flowCore_2.9.1.tar.gz PackageFileSize: 7.47 MiB