Package: flowCore Version: 2.9.1 Command: rm -rf flowCore.buildbin-libdir && mkdir flowCore.buildbin-libdir && /Users/biocbuild/BBS/utils/build-universal.sh flowCore_2.9.1.tar.gz /Library/Frameworks/R.framework/Resources/bin/R flowCore.buildbin-libdir StartedAt: 2022-07-07 07:56:29 -0400 (Thu, 07 Jul 2022) EndedAt: 2022-07-07 07:58:52 -0400 (Thu, 07 Jul 2022) EllapsedTime: 142.4 seconds RetCode: 1 Status: ERROR PackageFile: None PackageFileSize: NA