Package: flowClust Version: 3.36.1 Command: chmod a+r flowClust -R && F:\biocbuild\bbs-3.16-bioc\R\bin\R.exe CMD build --keep-empty-dirs --no-resave-data flowClust StartedAt: 2023-04-10 18:45:13 -0400 (Mon, 10 Apr 2023) EndedAt: 2023-04-10 18:45:44 -0400 (Mon, 10 Apr 2023) EllapsedTime: 30.8 seconds RetCode: 0 Status: OK PackageFile: flowClust_3.36.1.tar.gz PackageFileSize: 1.592 MiB