Package: flowClust Version: 3.36.1 Command: rm -rf flowClust.buildbin-libdir && mkdir flowClust.buildbin-libdir && /Users/biocbuild/BBS/utils/build-universal.sh flowClust_3.36.1.tar.gz /Library/Frameworks/R.framework/Resources/bin/R flowClust.buildbin-libdir StartedAt: 2023-04-10 23:43:47 -0400 (Mon, 10 Apr 2023) EndedAt: 2023-04-10 23:47:22 -0400 (Mon, 10 Apr 2023) EllapsedTime: 215.4 seconds RetCode: 0 Status: OK PackageFile: flowClust_3.36.1.tgz PackageFileSize: 1.449 MiB