Package: flowClust Version: 3.35.0 Command: /Library/Frameworks/R.framework/Resources/bin/R CMD INSTALL flowClust StartedAt: 2022-07-10 15:34:30 -0400 (Sun, 10 Jul 2022) EndedAt: 2022-07-10 15:39:14 -0400 (Sun, 10 Jul 2022) EllapsedTime: 284.5 seconds RetCode: 0 Status: OK