Package: flowClust Version: 3.35.0 Command: rm -rf flowClust.buildbin-libdir && mkdir flowClust.buildbin-libdir && /Users/biocbuild/BBS/utils/build-universal.sh flowClust_3.35.0.tar.gz /Library/Frameworks/R.framework/Resources/bin/R flowClust.buildbin-libdir StartedAt: 2022-07-07 07:56:19 -0400 (Thu, 07 Jul 2022) EndedAt: 2022-07-07 08:01:04 -0400 (Thu, 07 Jul 2022) EllapsedTime: 285.6 seconds RetCode: 1 Status: ERROR PackageFile: None PackageFileSize: NA