Package: fedup Version: 1.6.0 Command: /Library/Frameworks/R.framework/Resources/bin/R CMD build --keep-empty-dirs --no-resave-data fedup StartedAt: 2023-04-10 16:32:48 -0400 (Mon, 10 Apr 2023) EndedAt: 2023-04-10 16:34:25 -0400 (Mon, 10 Apr 2023) EllapsedTime: 96.8 seconds RetCode: 0 Status: OK PackageFile: fedup_1.6.0.tar.gz PackageFileSize: 4.36 MiB