Package: fedup Version: 1.5.0 Command: /Library/Frameworks/R.framework/Resources/bin/R CMD build --keep-empty-dirs --no-resave-data fedup StartedAt: 2022-07-06 20:49:58 -0400 (Wed, 06 Jul 2022) EndedAt: 2022-07-06 20:51:34 -0400 (Wed, 06 Jul 2022) EllapsedTime: 96.0 seconds RetCode: 0 Status: OK PackageFile: fedup_1.5.0.tar.gz PackageFileSize: 4.359 MiB