Package: fedup Version: 1.5.0 Command: rm -rf fedup.buildbin-libdir && mkdir fedup.buildbin-libdir && /Users/biocbuild/BBS/utils/build-universal.sh fedup_1.5.0.tar.gz /Library/Frameworks/R.framework/Resources/bin/R fedup.buildbin-libdir StartedAt: 2022-07-07 07:55:02 -0400 (Thu, 07 Jul 2022) EndedAt: 2022-07-07 07:55:20 -0400 (Thu, 07 Jul 2022) EllapsedTime: 17.7 seconds RetCode: 0 Status: OK PackageFile: fedup_1.5.0.tgz PackageFileSize: 4.093 MiB