Package: fdrame Version: 1.70.0 Command: F:\biocbuild\bbs-3.16-bioc\R\bin\R.exe CMD INSTALL fdrame StartedAt: 2023-04-10 15:30:23 -0400 (Mon, 10 Apr 2023) EndedAt: 2023-04-10 15:30:43 -0400 (Mon, 10 Apr 2023) EllapsedTime: 20.0 seconds RetCode: 0 Status: OK