Package: fdrame Version: 1.70.0 Command: chmod a+r fdrame -R && F:\biocbuild\bbs-3.16-bioc\R\bin\R.exe CMD build --keep-empty-dirs --no-resave-data fdrame StartedAt: 2023-04-10 18:40:38 -0400 (Mon, 10 Apr 2023) EndedAt: 2023-04-10 18:40:50 -0400 (Mon, 10 Apr 2023) EllapsedTime: 12.5 seconds RetCode: 0 Status: OK PackageFile: fdrame_1.70.0.tar.gz PackageFileSize: 915.5 KiB