Package: fcScan Version: 1.12.0 Command: chmod a+r fcScan -R && F:\biocbuild\bbs-3.16-bioc\R\bin\R.exe CMD build --keep-empty-dirs --no-resave-data fcScan StartedAt: 2023-04-10 18:40:24 -0400 (Mon, 10 Apr 2023) EndedAt: 2023-04-10 18:41:42 -0400 (Mon, 10 Apr 2023) EllapsedTime: 78.1 seconds RetCode: 0 Status: OK PackageFile: fcScan_1.12.0.tar.gz PackageFileSize: 242 KiB