Package: fastLiquidAssociation Version: 1.34.0 Command: rm -rf fastLiquidAssociation.buildbin-libdir && mkdir fastLiquidAssociation.buildbin-libdir && F:\biocbuild\bbs-3.16-bioc\R\bin\R.exe CMD INSTALL --build --library=fastLiquidAssociation.buildbin-libdir fastLiquidAssociation_1.34.0.tar.gz StartedAt: 2023-04-11 07:59:00 -0400 (Tue, 11 Apr 2023) EndedAt: 2023-04-11 07:59:32 -0400 (Tue, 11 Apr 2023) EllapsedTime: 32.4 seconds RetCode: 0 Status: OK PackageFile: fastLiquidAssociation_1.34.0.zip PackageFileSize: 667 KiB