Package: fastLiquidAssociation Version: 1.34.0 Command: /Library/Frameworks/R.framework/Resources/bin/R CMD INSTALL fastLiquidAssociation StartedAt: 2023-04-10 15:21:53 -0400 (Mon, 10 Apr 2023) EndedAt: 2023-04-10 15:22:18 -0400 (Mon, 10 Apr 2023) EllapsedTime: 25.0 seconds RetCode: 0 Status: OK