Package: fastLiquidAssociation Version: 1.34.0 Command: /Library/Frameworks/R.framework/Resources/bin/R CMD check --install=check:fastLiquidAssociation.install-out.txt --library=/Library/Frameworks/R.framework/Resources/library --no-vignettes --timings fastLiquidAssociation_1.34.0.tar.gz StartedAt: 2023-04-10 20:10:41 -0400 (Mon, 10 Apr 2023) EndedAt: 2023-04-10 20:13:29 -0400 (Mon, 10 Apr 2023) EllapsedTime: 168.1 seconds RetCode: 0 Status: WARNINGS CheckDir: fastLiquidAssociation.Rcheck Warnings: 1