Package: fastLiquidAssociation Version: 1.34.0 Command: /Library/Frameworks/R.framework/Resources/bin/R CMD build --keep-empty-dirs --no-resave-data fastLiquidAssociation StartedAt: 2023-04-10 16:32:19 -0400 (Mon, 10 Apr 2023) EndedAt: 2023-04-10 16:33:47 -0400 (Mon, 10 Apr 2023) EllapsedTime: 88.6 seconds RetCode: 0 Status: OK PackageFile: fastLiquidAssociation_1.34.0.tar.gz PackageFileSize: 749.6 KiB