Package: esetVis Version: 1.24.0 Command: rm -rf esetVis.buildbin-libdir && mkdir esetVis.buildbin-libdir && /Users/biocbuild/BBS/utils/build-universal.sh esetVis_1.24.0.tar.gz /Library/Frameworks/R.framework/Resources/bin/R esetVis.buildbin-libdir StartedAt: 2023-04-10 23:42:47 -0400 (Mon, 10 Apr 2023) EndedAt: 2023-04-10 23:43:07 -0400 (Mon, 10 Apr 2023) EllapsedTime: 20.4 seconds RetCode: 0 Status: OK PackageFile: esetVis_1.24.0.tgz PackageFileSize: 2.289 MiB